BEGIN:VCALENDAR
VERSION:2.0
BEGIN:VEVENT
CLASS:PUBLIC
CATEGORIES:MEETING
DTSTART;TZID=Europe/London:20140713T140000
DTEND;TZID=Europe/London:20140713T140000
SUMMARY:Sandwitch at Carmarthen Town Park
DESCRIPTION:Price: Free Entry\nAge Limit: All Ages
LOCATION:Carmarthen Town Park - The Tea Shop, Carmarthen Park, Morfa Lane, Carmarthen SA31 3AX, Carmarthen, CARMA, UK
END:VEVENT

END:VCALENDAR
