BEGIN:VCALENDAR
VERSION:2.0
BEGIN:VEVENT
CLASS:PUBLIC
CATEGORIES:MEETING
DTSTART;TZID=Pacific/Auckland:20140426T200000
DTEND;TZID=Pacific/Auckland:20140426T200000
SUMMARY:Phreaze at Woody's bar
DESCRIPTION:Price: TBA\nAge Limit: 18+\n\nDetails: ***Saturday 26th April*** Woody&#39;s Bar Manurewa will be home to The Sky&#39;s the Limit Showcase starting back up for its 4th year in 2014. Phreaze will be coming direct from Tauranga to perform some of her tracks from the up coming album SUB ZERO DYNASTY!! Listen to songs by Phreaze for FREE, or for more info on the Event check out The Sky&#39;s the Limit Showcase on Facebook  . More details commin soon...
LOCATION:Woody's bar - 220 Great South Rd, Auckland, 2102, NZ
END:VEVENT

END:VCALENDAR
