BEGIN:VCALENDAR
VERSION:2.0
BEGIN:VEVENT
CLASS:PUBLIC
CATEGORIES:MEETING
DTSTART;TZID=America/New_York:20140621T200000
DTEND;TZID=America/New_York:20140621T200000
SUMMARY:Post Traumatik at The Brass Monkey
DESCRIPTION:Price: $5.00 Cover\nAge Limit: 21+\n\nDetails: Come join Post Traumatik at The Brass Monkey&#39;s Summer Kick off Party. Show starts at 10pm and $5 Cover.
LOCATION:The Brass Monkey - 4242 Starford Rd, Starford, PA, 15777, US
END:VEVENT

END:VCALENDAR
