BEGIN:VCALENDAR
VERSION:2.0
BEGIN:VEVENT
CLASS:PUBLIC
CATEGORIES:MEETING
DTSTART;TZID=America/Chicago:20140803T150000
DTEND;TZID=America/Chicago:20140803T150000
SUMMARY:Troy Cook Jr at Silver Dollar Saloon
DESCRIPTION:Age Limit: All Ages
LOCATION:Silver Dollar Saloon - 110 2nd Ave N, Nashville, TN, 37201, US
END:VEVENT

END:VCALENDAR
