BEGIN:VCALENDAR
VERSION:2.0
BEGIN:VEVENT
CLASS:PUBLIC
CATEGORIES:MEETING
DTSTART;TZID=America/Chicago:20140802T150000
DTEND;TZID=America/Chicago:20140802T150000
SUMMARY:Rob Skaggs at Bootleggers Inn
DESCRIPTION:Age Limit: All Ages
LOCATION:Bootleggers Inn - 207 Broadway, Nashville, TN, 37201, US
END:VEVENT

END:VCALENDAR
