BEGIN:VCALENDAR
VERSION:2.0
BEGIN:VEVENT
CLASS:PUBLIC
CATEGORIES:MEETING
DTSTART;TZID=America/Chicago:20140813T183000
DTEND;TZID=America/Chicago:20140813T183000
SUMMARY:Mike Siler at Legends Corner
DESCRIPTION:Age Limit: All Ages
LOCATION:Legends Corner - 428 Broadway, Nashville, TN, 37203, US
END:VEVENT

END:VCALENDAR
