BEGIN:VCALENDAR
VERSION:2.0
BEGIN:VEVENT
CLASS:PUBLIC
CATEGORIES:MEETING
DTSTART;TZID=America/New_York:20140426T210000
DTEND;TZID=America/New_York:20140426T210000
SUMMARY:Citizen Kane at The Casbah - Johnson City, TN
DESCRIPTION:Age Limit: 21+\n\nDetails: Black Derby Music &amp; The Casbah Present: Citizen Kane with Down From Io And F-Bomb Sat. April-26th 9pm All  Metal Heads &amp; Rockaholics Welcome. 
LOCATION:The Casbah - Johnson City, TN - 807 W Walnut St, Johnson City, TN, 37604, US
END:VEVENT

END:VCALENDAR
