BEGIN:VCALENDAR
VERSION:2.0
BEGIN:VEVENT
CLASS:PUBLIC
CATEGORIES:MEETING
DTSTART;TZID=America/New_York:20140329T220000
DTEND;TZID=America/New_York:20140329T220000
SUMMARY:Citizen Kane at O'Mainnin's Pub & Grille
DESCRIPTION:Age Limit: 21+\n\nDetails: Citizen Kane Returns To O&#39;Mainnins Pub,  Sat March-29th With Special Guest: Down From Io $5 @ The Door 10pm Show Time Please Plan Accordingly Seating is Limited.  More Info @ www.kanecrew.com 
LOCATION:O'Mainnin's Pub & Grille - W State St, Bristol, TN, 37620, US
END:VEVENT

END:VCALENDAR
