BEGIN:VCALENDAR
VERSION:2.0
BEGIN:VEVENT
CLASS:PUBLIC
CATEGORIES:MEETING
DTSTART;TZID=America/New_York:20140215T210000
DTEND;TZID=America/New_York:20140215T210000
SUMMARY:VyntEdge Rock’n Blues Band at Fran's Pub
DESCRIPTION:Age Limit: 18+\n\nDetails: Hey Pa Friends, VyntEdge is Rock&#39;n out to Your side of the Delaware for a little Post Valentines Fun!! \nGrab your sweetheart &amp; head on out to this Very Cool place for some great food, drink specials &amp; Hot Classic Rock with some fun loving people on a Saturday night!! 😈
LOCATION:Fran's Pub - 116 S Main St, New Hope, PA, US
END:VEVENT

END:VCALENDAR
