BEGIN:VCALENDAR
VERSION:2.0
BEGIN:VEVENT
CLASS:PUBLIC
CATEGORIES:MEETING
DTSTART;TZID=America/New_York:20131221T193000
DTEND;TZID=America/New_York:20131221T193000
SUMMARY:Alicia Mathewson at Unitarian Church of Barnstable
DESCRIPTION:Price: suggested donation $12\nAge Limit: All Ages\n\nDetails: Solstice Concert with Alicia Mathewson (3rd annual on Cape Cod)
LOCATION:Unitarian Church of Barnstable - 3330 Main St, Barnstable, MASSA, 02630, US
END:VEVENT

END:VCALENDAR
