BEGIN:VCALENDAR
VERSION:2.0
BEGIN:VEVENT
CLASS:PUBLIC
CATEGORIES:MEETING
DTSTART;TZID=Pacific/Auckland:20131108T200000
DTEND;TZID=Pacific/Auckland:20131108T200000
SUMMARY:Phreaze at Souf Summer Jam @ Pacific Square
DESCRIPTION:Price: $10 Presold $15 Door\nAge Limit: All Ages\n\nDetails: One Voice Productions Presents..\nSOUF SUMMER JAM!\nTYREE/PAKKZ THE GENERAL/LAY BAQ/DJ WOODY/P.ROLE/EMARNI/QUEEN SHIRL&#39;E/PHREAZE + FREESTYLE BATTLES &amp; BAR TABS UP FOR GRABS!
LOCATION:Souf Summer Jam @ Pacific Square - 792 Great South Road, Manukau, NZ
END:VEVENT

END:VCALENDAR
