BEGIN:VCALENDAR
VERSION:2.0
BEGIN:VEVENT
CLASS:PUBLIC
CATEGORIES:MEETING
DTSTART;TZID=Pacific/Auckland:20131023T210000
DTEND;TZID=Pacific/Auckland:20131023T210000
SUMMARY:Phreaze at Cloud9
DESCRIPTION:Price: $35+bf or $50 At Door\nClick here to buy tickets: http://www.dashtickets.co.nz/\nAge Limit: 18+\n\nDetails: BOOOOOOM!!! WADDUP TGA!! My first gig since moving back to Aotearawwwww &amp; it happens to be supporting someone I&#39;m a big AAAAZZZZ fan of....TWISTA!!! Come out n support me &amp; catch a legend in action while you at it!! This is gonna SELL OUT for sure!! In there peeps!!! - Phreaze
LOCATION:Cloud9 - 15 Harington Street, Tauranga, 3110, NZ
END:VEVENT

END:VCALENDAR
