BEGIN:VCALENDAR
VERSION:2.0
BEGIN:VEVENT
CLASS:PUBLIC
CATEGORIES:MEETING
DTSTART;TZID=Australia/Sydney:20130906T200000
DTEND;TZID=Australia/Sydney:20130906T200000
SUMMARY:Phreaze at Metro Theatre
DESCRIPTION:Click here to buy tickets: http://m.ticketek.com.au/shows/show.aspx?sh=THEGAME13\nAge Limit: All Ages\n\nDetails: Catch Phreaze ft Kamikazi &amp; Madam Parker supporting The Game on his Sydney leg of his Australian Tour! After Party at Trademark! See www.Phreaze.com for updates!
LOCATION:Metro Theatre - Sydney, AU
END:VEVENT

END:VCALENDAR
