BEGIN:VCALENDAR
VERSION:2.0
BEGIN:VEVENT
CLASS:PUBLIC
CATEGORIES:MEETING
DTSTART;TZID=America/New_York:20130904T210000
DTEND;TZID=America/New_York:20130904T210000
SUMMARY:Ken Kiser and The Soze and The Jamboogie Band at The Orange Peel
DESCRIPTION:Price: $5\nAge Limit: All Ages\n\nDetails: Doors open at 8:00 pm  \nKen Kiser and The Soze play an hour set at 9:00 pm.
LOCATION:The Orange Peel - 101 Biltmore Ave, Asheville, NC, 28801, US
END:VEVENT

END:VCALENDAR
