BEGIN:VCALENDAR
VERSION:2.0
BEGIN:VEVENT
CLASS:PUBLIC
CATEGORIES:MEETING
DTSTART;TZID=America/New_York:20130824T180000
DTEND;TZID=America/New_York:20130824T180000
SUMMARY:Modern Arson at American Legion
DESCRIPTION:Price: All donations!\nAge Limit: All Ages\n\nDetails: Want to hear some new tunes and a few from (upcoming) &quot;Absent&quot;? Want to experience the genre that is &quot;Alien&quot; first hand? Want to support a good cause? Come to the upper level of the Rogersville Playhouse on August 24th..Doors open at 6pm..Gun Metal Grey, Down From Io, Stonewall and comedian Scott Laster. No cover..All donations go to the family of Andy McElwain and his little boy...
LOCATION:American Legion - East Main St., Rogersville, TN, 37857, US
END:VEVENT

END:VCALENDAR
