BEGIN:VCALENDAR
VERSION:2.0
BEGIN:VEVENT
CLASS:PUBLIC
CATEGORIES:MEETING
DTSTART;TZID=America/New_York:20091005T183000
DTEND;TZID=America/New_York:20091005T183000
SUMMARY:gojira at The Valarium & CiderHouse
DESCRIPTION:Details: Gojira  Gojiraw/ Burst&amp; ZoroasterMonday, October 5@ The Valarium6:30 PM DoorsIt has always been hard to put a tag on GOJIRA, one of France’s most extreme bands the country’s musical pallet has ever known. But then again, the band has never really sought out such a tag, instead letting the music do the talking, preferring introspection and intelligence over preconceived notions and preexisting tags. Ever since the 1996 formation in town of Bayonne in the southwest of France, GOJIRA has been an ever-evolving experiment in extreme metal ultimately built upon a worldly, ever-conscious outlook with roots firmly-planted both in the hippie movement and an environmentally-conscious, new age mentality. This time, with The Way of All Flesh, GOJIRA harnesses a spiritual consciousness as well, but still culminates in a sound wholly heavy.Originally dubbed Godzilla, after the scaly, green film star with an equally huge reputation as the newfound band’s sound, the brothers Duplantier – guitarist/vocalist Joe and drummer Mario – and fellow Frenchmen Jean Michel Labadie on bass and Christian Andreu on guitar, quickly released several demos, ultimately changing the band’s name and independently releasing the first GOJIRA album, Terra Incognita, in 2001, offering up a brief glimpse into the giant GOJIRA would eventually become through persistent hard work and years of toiling in the metal underground.16 and up.$13.50 Adv/ $15 Door/ $3 surcharge if under 21On Sale NowBand WebsiteMySpace PageBuy at Tickets Unlimited\n
LOCATION:The Valarium & CiderHouse - 1213 Western Ave, Knoxville, TN, 37921, US
END:VEVENT

END:VCALENDAR
