BEGIN:VCALENDAR
VERSION:2.0
BEGIN:VEVENT
CLASS:PUBLIC
CATEGORIES:MEETING
DTSTART;TZID=America/Los_Angeles:20130802T210000
DTEND;TZID=America/Los_Angeles:20130802T210000
SUMMARY:0NLY1 at Mother's Saloon
DESCRIPTION:Age Limit: 21+
LOCATION:Mother's Saloon - San Diego, CA, US
END:VEVENT

END:VCALENDAR
