BEGIN:VCALENDAR
VERSION:2.0
BEGIN:VEVENT
CLASS:PUBLIC
CATEGORIES:MEETING
DTSTART;TZID=America/Chicago:20130816T200000
DTEND;TZID=America/Chicago:20130816T200000
SUMMARY:BIGWOOD at Fitzgerald's Bar & Live Music Venue
DESCRIPTION:Price: $5\nAge Limit: All Ages\n\nDetails: https://www.facebook.com/events/1403558306523461/
LOCATION:Fitzgerald's Bar & Live Music Venue - 437 McCarty Road, San Antonio, TX, 78216, US
END:VEVENT

END:VCALENDAR
