BEGIN:VCALENDAR
VERSION:2.0
BEGIN:VEVENT
CLASS:PUBLIC
CATEGORIES:MEETING
DTSTART;TZID=America/New_York:20130810T200000
DTEND;TZID=America/New_York:20130810T200000
SUMMARY:Dirty Blind at Club Bohemia
DESCRIPTION:Price: 8$ at door\nAge Limit: 21+
LOCATION:Club Bohemia - 738 Massachusetts Ave, Cambridge, MA, 02139, US
END:VEVENT

END:VCALENDAR
