BEGIN:VCALENDAR
VERSION:2.0
BEGIN:VEVENT
CLASS:PUBLIC
CATEGORIES:MEETING
DTSTART;TZID=Australia/Sydney:20130827T200000
DTEND;TZID=Australia/Sydney:20130827T200000
SUMMARY:Phreaze at Metro Theatre
DESCRIPTION:Click here to buy tickets: http://premier.ticketek.com.au/shows/show.aspx?sh=THEGAME13\nAge Limit: 18+\n\nDetails: Catch PHREAZE ft MADAM PARKER, KAMIKAZI with DJ KORUS performing LIVE supporting the one and only GAME on his &quot;The Game Jesus Piece&quot; AUS &amp; NZ Tour 2013!!\n\nLA born rap legend Game has sold millions of albums, been nominated for Grammy’s, delivered scene-stealing performances in major motion pictures, starred in a hit television program and single-handedly bought the West Coast back when he burst onto the scene with his now legendary album “The Documentary” which is still considered one of the strongest debuts in hip hop history. Game has successfully toured Australia 5 times before to sell out crowds, and is returning down under in late August for an extensive 14+ city tour with more cities still to be announced soon.\n\nGold Tickets include best view in the house usually closest to stage depending on venue.\n\nVIP Tickets include a photo with The Game and a signed poster.\n\nTickets are on sale NOW through www.dashtickets.com.au or for Sydney www.ticketek.com.au !\n\nDO NOT miss out!! This will be a sellot event!\n\nCheck out message from GAME himself to the fans\n- http://youtu.be/ZhY_E_mkAGA
LOCATION:Metro Theatre - Sydney, AU
END:VEVENT

END:VCALENDAR
