BEGIN:VCALENDAR
VERSION:2.0
BEGIN:VEVENT
CLASS:PUBLIC
CATEGORIES:MEETING
DTSTART;TZID=America/Chicago:20131002T210000
DTEND;TZID=America/Chicago:20131002T210000
SUMMARY:Wolverton at BONESHAKERS
DESCRIPTION:Age Limit: All Ages\n\nDetails: Wolverton Wednesday with guest Joe Reyes.
LOCATION:BONESHAKERS - 306 Austin St, San Antonio, TX, 78215, US
END:VEVENT

END:VCALENDAR
