BEGIN:VCALENDAR
VERSION:2.0
BEGIN:VEVENT
CLASS:PUBLIC
CATEGORIES:MEETING
DTSTART;TZID=America/New_York:20130628T180000
DTEND;TZID=America/New_York:20130628T180000
SUMMARY:Ken Kiser at The Dark City Deli
DESCRIPTION:Age Limit: All Ages\n\nDetails: Last show until August
LOCATION:The Dark City Deli - 122 Cherry St, Black Mountain, NC, 28711, US
END:VEVENT

END:VCALENDAR
