BEGIN:VCALENDAR
VERSION:2.0
BEGIN:VEVENT
CLASS:PUBLIC
CATEGORIES:MEETING
DTSTART;TZID=America/New_York:20130823T200000
DTEND;TZID=America/New_York:20130823T200000
SUMMARY:Ken Kiser at The Native Kitchen
DESCRIPTION:Age Limit: All Ages
LOCATION:The Native Kitchen - 204 Whitson Ave, Swannanoa, NC, 28778, US
END:VEVENT

END:VCALENDAR
