BEGIN:VCALENDAR
VERSION:2.0
BEGIN:VEVENT
CLASS:PUBLIC
CATEGORIES:MEETING
DTSTART;TZID=America/Chicago:20130726T190000
DTEND;TZID=America/Chicago:20130726T190000
SUMMARY:Hans Frank "El Gallo" at The Point Park & Eats
DESCRIPTION:Age Limit: All Ages
LOCATION:The Point Park & Eats - Boerne Stage Rd, San Antonio, TX, 78255, US
END:VEVENT

END:VCALENDAR
