BEGIN:VCALENDAR
VERSION:2.0
BEGIN:VEVENT
CLASS:PUBLIC
CATEGORIES:MEETING
DTSTART;TZID=America/New_York:20130828T180000
DTEND;TZID=America/New_York:20130828T180000
SUMMARY:Ken Kiser at straightaway cafe & pub
DESCRIPTION:Age Limit: All Ages\n\nDetails: Full Band Show
LOCATION:straightaway cafe & pub - 1722 N Carolina 9, Black Mountain, NC, 28711, US
END:VEVENT

END:VCALENDAR
