BEGIN:VCALENDAR
VERSION:2.0
BEGIN:VEVENT
CLASS:PUBLIC
CATEGORIES:MEETING
DTSTART;TZID=America/New_York:20130612T200000
DTEND;TZID=America/New_York:20130612T200000
SUMMARY:Tanya True at No Malice Palace
DESCRIPTION:Age Limit: 21+\n\nDetails: Acoustic Singer/Songwriter night
LOCATION:No Malice Palace - New York, NY, US
END:VEVENT

END:VCALENDAR
