BEGIN:VCALENDAR
VERSION:2.0
BEGIN:VEVENT
CLASS:PUBLIC
CATEGORIES:MEETING
DTSTART;TZID=America/Chicago:20130726T210000
DTEND;TZID=America/Chicago:20130726T210000
SUMMARY:Muchos Backflips! at The Mix
DESCRIPTION:Price: No cover\nAge Limit: 21+
LOCATION:The Mix - 2423 N St Mary's St, San Antonio, TX, 78212, US
END:VEVENT

END:VCALENDAR
