BEGIN:VCALENDAR
VERSION:2.0
BEGIN:VEVENT
CLASS:PUBLIC
CATEGORIES:MEETING
DTSTART;TZID=America/Chicago:20130612T210000
DTEND;TZID=America/Chicago:20130612T210000
SUMMARY:Irrelevent at Limelight
DESCRIPTION:Price: $5\nAge Limit: 21+\n\nDetails: Proceeds will go to American Red Cross to benefit San Antonio flood victims
LOCATION:Limelight - San Antonio, TX, US
END:VEVENT

END:VCALENDAR
