BEGIN:VCALENDAR
VERSION:2.0
BEGIN:VEVENT
CLASS:PUBLIC
CATEGORIES:MEETING
DTSTART;TZID=America/Los_Angeles:20130521T200000
DTEND;TZID=America/Los_Angeles:20130521T200000
SUMMARY:Robert Johnson USA at Milwaukie Grind
DESCRIPTION:Age Limit: All Ages\n\nDetails: BrewPony.com is hosting an event and I&#39;ll  be entertaining the masses with Cellist Domenika.   There will be free samples of some of the best coffee you can drink!  It&#39;s free to come by.  We&#39;ll see you there!
LOCATION:Milwaukie Grind - 9401 Southeast 32nd Avenue, Portland, OR, 97222, US
END:VEVENT

END:VCALENDAR
