BEGIN:VCALENDAR
VERSION:2.0
BEGIN:VEVENT
CLASS:PUBLIC
CATEGORIES:MEETING
DTSTART;TZID=America/Chicago:20130608T230000
DTEND;TZID=America/Chicago:20130608T230000
SUMMARY:HOGBITCH at The Mix
DESCRIPTION:Age Limit: 21+
LOCATION:The Mix - 2423 N St Mary's St, San Antonio, TX, 78212, US
END:VEVENT

END:VCALENDAR
