BEGIN:VCALENDAR
VERSION:2.0
BEGIN:VEVENT
CLASS:PUBLIC
CATEGORIES:MEETING
DTSTART;TZID=Australia/Brisbane:20130622T200000
DTEND;TZID=Australia/Brisbane:20130622T200000
SUMMARY:Phreaze at The Beetle Bar
DESCRIPTION:Age Limit: 18+\n\nDetails: Phreaze will be flying up from Sydney just for this!! More Info Comming Soon!
LOCATION:The Beetle Bar - 350 Upper Roma St, Brisbane, QLD, 4000, AU
END:VEVENT

END:VCALENDAR
