BEGIN:VCALENDAR
VERSION:2.0
BEGIN:VEVENT
CLASS:PUBLIC
CATEGORIES:MEETING
DTSTART;TZID=America/Denver:20130621T200000
DTEND;TZID=America/Denver:20130621T200000
SUMMARY:Todd and the Fox at The Mine Shaft Tavern
DESCRIPTION:Price: Free\nAge Limit: All Ages
LOCATION:The Mine Shaft Tavern - 2846 New Mexico 14, Cerrillos, NM, 87010, US
END:VEVENT

END:VCALENDAR
