BEGIN:VCALENDAR
VERSION:2.0
BEGIN:VEVENT
CLASS:PUBLIC
CATEGORIES:MEETING
DTSTART;TZID=America/New_York:20130525T193000
DTEND;TZID=America/New_York:20130525T193000
SUMMARY:Chaka Khan at nTelos Wireless Pavilion
DESCRIPTION:Price: $16.00-53.00\nClick here to buy tickets: http://www.ticketmaster.com/event/01004A6D89CB7574?artistid=767955&amp;majorcatid=10001&amp;minorcatid=202&amp;tm_link=search_msg-0_01004A6D89CB7574\nAge Limit: All Ages
LOCATION:nTelos Wireless Pavilion - Portsmouth, VA, US
END:VEVENT

END:VCALENDAR
