BEGIN:VCALENDAR
VERSION:2.0
BEGIN:VEVENT
CLASS:PUBLIC
CATEGORIES:MEETING
DTSTART;TZID=America/Los_Angeles:20130819T010000
DTEND;TZID=America/Los_Angeles:20130819T010000
SUMMARY:settingthestandard at kpfa 94.1fm
DESCRIPTION:Age Limit: All Ages\n\nDetails: Radio listening Party, tune in to kpfa 94.1fm, 89.3fm in Berkeley, and 88.1fm in Berekeley CA
LOCATION:kpfa 94.1fm - 1929 Mlk jr. way, Berkeley, CA, 94704, US
END:VEVENT

END:VCALENDAR
