BEGIN:VCALENDAR
VERSION:2.0
BEGIN:VEVENT
CLASS:PUBLIC
CATEGORIES:MEETING
DTSTART;TZID=Australia/Sydney:20130411T153000
DTEND;TZID=Australia/Sydney:20130411T153000
SUMMARY:Phreaze at Holroyd Youth Service Presents Y FACTOR!
DESCRIPTION:Price: FREE\nAge Limit: All Ages\n\nDetails: Catch Phreaze performing LIVE @ HYS and Guest Judging their Youth Week Talent Competition.. Y FACTOR! Free Entry, so see ya there!!
LOCATION:Holroyd Youth Service Presents Y FACTOR! - 289 Merrylands Road, Merrylands, NSW, AU
END:VEVENT

END:VCALENDAR
