BEGIN:VCALENDAR
VERSION:2.0
BEGIN:VEVENT
CLASS:PUBLIC
CATEGORIES:MEETING
DTSTART;TZID=Australia/Sydney:20130414T120000
DTEND;TZID=Australia/Sydney:20130414T120000
SUMMARY:Phreaze at Urban Jamz @ BIO Fairfield Showgrounds
DESCRIPTION:Price: FREE\nAge Limit: All Ages\n\nDetails: Catch Phreaze LIVE on the Hiphop Stage at Bring It On! Youth Festival at Fairfield Showgrounds! The festival attracts over 10,000 people every year and Celebrates National Youth Week in Australia!
LOCATION:Urban Jamz @ BIO Fairfield Showgrounds - Smithfield Road, Prairiewood, NSW, AU
END:VEVENT

END:VCALENDAR
