BEGIN:VCALENDAR
VERSION:2.0
BEGIN:VEVENT
CLASS:PUBLIC
CATEGORIES:MEETING
DTSTART;TZID=Australia/Sydney:20130412T200000
DTEND;TZID=Australia/Sydney:20130412T200000
SUMMARY:Phreaze at Rock The Block Party @ Youth Week 2013
DESCRIPTION:Price: FREE\nAge Limit: All Ages\n\nDetails: This is a FREE All Ages Youth Week Event Featuring Performances, Food &amp; Even an MC Battle (see www.Phreaze.com for those details!). Get there!!
LOCATION:Rock The Block Party @ Youth Week 2013 - Granville Youth Centre - 3A Memorial Drive, Granville, NSW, AU
END:VEVENT

END:VCALENDAR
