BEGIN:VCALENDAR
VERSION:2.0
BEGIN:VEVENT
CLASS:PUBLIC
CATEGORIES:MEETING
DTSTART;TZID=Australia/Sydney:20130410T153000
DTEND;TZID=Australia/Sydney:20130410T153000
SUMMARY:Phreaze at Youth Week House Party @ Marayong Youth House
DESCRIPTION:Price: FREE\nAge Limit: All Ages\n\nDetails: FREE Event with Live Performances, BBQ &amp; More to Celebrate Youth Week 2013!! Event runs from 3.30pm - 6pm and its FREE ENTRY! See you there!
LOCATION:Youth Week House Party @ Marayong Youth House - 64 Falmouth Road, Quakers Hill, NSW, AU
END:VEVENT

END:VCALENDAR
