BEGIN:VCALENDAR
VERSION:2.0
BEGIN:VEVENT
CLASS:PUBLIC
CATEGORIES:MEETING
DTSTART;TZID=America/Chicago:20130328T050000
DTEND;TZID=America/Chicago:20130328T050000
SUMMARY:PuzzleBox at Bradleys Billiards
DESCRIPTION:Price: No Cover\nAge Limit: 18+\n\nDetails: For the Thursday Night Concert Series, PuzzleBox will be performing at 12 midnight.
LOCATION:Bradleys Billiards - 7743 Montego Road, San Antonio, TX, 78250, US
END:VEVENT

END:VCALENDAR
