BEGIN:VCALENDAR
VERSION:2.0
BEGIN:VEVENT
CLASS:PUBLIC
CATEGORIES:MEETING
DTSTART;TZID=America/New_York:20130503T203000
DTEND;TZID=America/New_York:20130503T203000
SUMMARY:Mesa Jane at Cantab Lounge
DESCRIPTION:Age Limit: 18+\n\nDetails: Show starts at 9pm.
LOCATION:Cantab Lounge - 738 Massachusetts Avenue, Cambridge, MA, 02139, US
END:VEVENT

END:VCALENDAR
